BEGIN:VCALENDAR
METHOD:PUBLISH
VERSION:2.0
CALSCALE:GREGORIAN
PRODID:-//NONSGML WPForms//NONSGML Sugar Calendar Feeds v3.10.0//EN
X-WR-CALNAME:Virtual FLL Challenge Camp hosted by FRC 612
X-WR-CALDESC:VA-DC FIRST LEGO League
X-WR-TIMEZONE:UTC
BEGIN:VTIMEZONE
TZID:UTC
BEGIN:STANDARD
TZOFFSETFROM:+0000
TZOFFSETTO:+0000
DTSTART:20200301T120000
TZNAME:UTC
END:STANDARD
END:VTIMEZONE
BEGIN:VTIMEZONE
TZID:UTC
BEGIN:STANDARD
TZOFFSETFROM:+0000
TZOFFSETTO:+0000
DTSTART:20200301T120000
TZNAME:UTC
END:STANDARD
END:VTIMEZONE
BEGIN:VEVENT
SUMMARY:Virtual FLL Challenge Camp hosted by FRC 612
DESCRIPTION:We are FRC (FIRST Robotics Competition) team Chantilly 612 R
 obotics and have organized a free virtual FLL camp that we will be host
 ing from August 31 to September 4\, from 10:00 AM to 12:00 PM each day. 
 This camp is an amazing opportunity for new members of FLL to familiariz
 e themselves with important aspects of the program\, as well as an oppor
 tunity for returning FLL members to reinforce and practice essential ski
 lls in FLL in a stimulating social environment. Over the course of the 5
 -day virtual camp\, we will cover key topics that lead to success in FIR
 ST Lego League through fun and engaging activities.\n\nEach camp day\, F
 LL campers will spend time learning and exploring a new topic alongside 
 other FLL members\, facilitated by high-school-age members of FRC 612. T
 opics covered include programming\, strategy\, robot design\, team build
 ing\, FLL research projects and presentations\, and FIRST core values. F
 RC 612\, a diverse and inviting community of STEM enthusiasts\, has host
 ed an FLL tournament for numerous years\, and we believe that these subj
 ects are fundamental and applicable in every FLL season.\n\nCamper sign 
 up form: https://docs.google.com/forms/d/e/1FAIpQLSfDaPycNcDG6VG0jUUULH4
 jm18GftenPvg9hY1ZnqGQM55Y0A/viewform\n\nAnnouncement video: https://dri
 ve.google.com/file/d/1hfZPexcx91O0GimUbCTuW7i3jq01wXhS/view?usp=sharing
URL;VALUE=URI:https://va-dcfll.org/events/virtual-fll-challenge-camp-hos
 ted-by-frc-612/
UID:urn:uuid:8cb9b06c-909a-4f23-98a2-a98789e7ddcd
STATUS:CONFIRMED
ORGANIZER:
DTSTAMP:20260421T101429Z
DTSTART;VALUE=DATE:20200831
DTEND;VALUE=DATE:20200904
END:VEVENT
END:VCALENDAR