BEGIN:VCALENDAR
METHOD:PUBLISH
VERSION:2.0
CALSCALE:GREGORIAN
PRODID:-//NONSGML WPForms//NONSGML Sugar Calendar Feeds v3.10.0//EN
X-WR-CALNAME:VA+DC FLL Challenge:  Tournament Preference Selection
X-WR-CALDESC:VA-DC FIRST LEGO League
X-WR-TIMEZONE:UTC
BEGIN:VTIMEZONE
TZID:UTC
BEGIN:STANDARD
TZOFFSETFROM:+0000
TZOFFSETTO:+0000
DTSTART:20200601T120000
TZNAME:UTC
END:STANDARD
END:VTIMEZONE
BEGIN:VTIMEZONE
TZID:UTC
BEGIN:STANDARD
TZOFFSETFROM:+0000
TZOFFSETTO:+0000
DTSTART:20200601T120000
TZNAME:UTC
END:STANDARD
END:VTIMEZONE
BEGIN:VEVENT
SUMMARY:VA+DC FLL Challenge:  Tournament Preference Selection
DESCRIPTION:VA+DC FIRST LEGO League Challenge:\nTournament Preference Se
 lection\nTournament Preference Selection will open on December 1st at 10
 am and will close on December 10th. Log into Team Manager Account to 
 register.\n\nBefore December 1st\, coaches will be able to access their 
 Team Manager account to create their team profile and enter their member
  information.\n\nEach team will select 4 tournament preferences. After t
 he closing of registration on December 10th\, teams will be assigned to 
 their tournament. Teams will be able to find their tournament assignment
  in their Team Manager account or our website after December 15th.
URL;VALUE=URI:https://va-dcfll.org/events/vadc-fll-challenge-tournament-
 preference-selection/
UID:urn:uuid:af570e13-6452-406d-956a-a3474a01eedb
STATUS:CONFIRMED
ORGANIZER:
DTSTAMP:20260419T145616Z
DTSTART;VALUE=DATE:20201201
DTEND;VALUE=DATE:20201210
END:VEVENT
END:VCALENDAR