BEGIN:VCALENDAR
METHOD:PUBLISH
VERSION:2.0
CALSCALE:GREGORIAN
PRODID:-//NONSGML WPForms//NONSGML Sugar Calendar Feeds v3.10.0//EN
X-WR-CALNAME:(Southwest) Remote Regional Qualifier 3
X-WR-CALDESC:VA-DC FIRST LEGO League
X-WR-TIMEZONE:UTC
BEGIN:VTIMEZONE
TZID:UTC
BEGIN:STANDARD
TZOFFSETFROM:+0000
TZOFFSETTO:+0000
DTSTART:20200731T120000
TZNAME:UTC
END:STANDARD
END:VTIMEZONE
BEGIN:VTIMEZONE
TZID:UTC
BEGIN:STANDARD
TZOFFSETFROM:+0000
TZOFFSETTO:+0000
DTSTART:20200731T120000
TZNAME:UTC
END:STANDARD
END:VTIMEZONE
BEGIN:VEVENT
SUMMARY:(Southwest) Remote Regional Qualifier 3
DESCRIPTION:Coaches will receive emails outlining their team schedule cl
 oser to the day of their event\, but for planning purposes... check out 
 the event schedules and judging sessions below!  You can also find out 
 more about how to submit your team materials (Project presentation\, rob
 ot game etc).  If you have any questions\, please reach out to your tou
 rnament directors\, Nicky Rahley and Lizzy Fulcher. If you have questio
 ns about submitting materials\, please reach out to Kaitlin Ilnitzki.\nE
 VENT SCHEDULE\nWhile we want teams to participate as much as possible\, 
 we know that will not always be an option.  The only mandatory portion 
 will be the team's Judging Session (listed below).  Teams will also be 
 able to check out the Robot Game Leaderboard for score updates and parti
 cipate in virtual activities throughout the day!  The Opening and Closi
 ng Ceremony will be recorded so teams can watch at a later date.\n\n\n\n
 \nTime\nEvent\nLink\n\n\n8:00 AM\nCoaches Meeting\nEmailed to Lead Coach
 \n\n\n8:30 AM\nOpening Ceremony\nWatch Live!\n\n\n9:00 AM - 3:30 PM\nJud
 ging Sessions\nEmailed to Lead Coach\n\n\n11:00 AM - 4:00 PM\nVirtual Ac
 tivities\nJoin Us!\n\n\n4:30 PM\nClosing Ceremony\nWatch Live!\n\n\n\nJU
 DGING SESSIONS\nCoaches will receive the Zoom link to their judging sess
 ion through email so it can be distributed to the team before the event.
   The judging session will last 25 minutes (judges will watch the proje
 ct presentation meeting the teams in the judging Zoom room.  Teams will
  be able to enter the judging room early to get set up and make sure eve
 ryone is connected.  During the judging session\, teams will also have 
 screen sharing capabilities within the Zoom room.\nRoom 1 (Division 1)\n
 \n\n\n\n\n46108\n\nCivilBots\n9:15 AM\n\n\n\n38239\n\nRobo-Rangers\n10:1
 5 AM\n\n\n\n8810\n\nThe LadyBots\n\n11:15 AM\n\n\n\n8809\nTeam Champion\
 n\n12:45 PM\n\n\n\n44219\nFierce Foxes\n\n1:45 PM\n\n\n\n\nRoom 2 (Divis
 ion 1)\n\n\n\n\n\n8811\n\n#AHESReboot\n9:30 AM\n\n\n\n8812\n\nOperative 
 Innovators\n\n10:30 AM\n\n\n\n51259\nActive Avocados\n\n11:30 AM\n\n\n\n
 \n47869\n\nEngineers\n1:00 PM\n\n\n23372\nThe Bit Lords\n\n2:00 PM\n\n\n
 \n\nRoom 3 (Division 2)\n\n\n\n\n\n30485\n\nRobotic Rhinos\n9:45 AM\n\n\
 n42539\nMojo Dojo\n\n10:45 AM\n\n\n\n\n42361\n\nTheTeam(TM)\n12:15 PM\n\
 n\n8807\nMagical Unicodes\n\n1:15 PM\n\n\n\n\n8808\n\nAbsolute Zero\n\n2
 :15 PM\n\n\n\n\nRoom 4 (Division 2)\n\n\n\n\n\n38241\n\nBaysavers\n10:00
  AM\n\n\n\n25762\n\nFire Breathing Rubber Duckies\n11:00 AM\n\n\n7650\nR
 enaissance tech\n\n12:30 PM\n\n\n\n39485\nThe NeWTs\n\n1:30 PM\n\n\n\n\n
 &nbsp\;\n\nRemote Tournament Guidelines\nSubmit your Practice Robot Game
  Round\nSubmit your Event Materials \n&nbsp\;
URL;VALUE=URI:https://va-dcfll.org/events/southwest-qualifier/
UID:urn:uuid:59cfeecf-080e-4324-9d58-3feb00ae6590
STATUS:CONFIRMED
ORGANIZER:
DTSTAMP:20260422T120553Z
DTSTART;VALUE=DATE:20210130
END:VEVENT
END:VCALENDAR