BEGIN:VCALENDAR
METHOD:PUBLISH
VERSION:2.0
CALSCALE:GREGORIAN
PRODID:-//NONSGML WPForms//NONSGML Sugar Calendar Feeds v3.10.0//EN
X-WR-CALNAME:Salem Regional Qualifying Tournament
X-WR-CALDESC:VA-DC FIRST LEGO League
X-WR-TIMEZONE:UTC
BEGIN:VTIMEZONE
TZID:UTC
BEGIN:STANDARD
TZOFFSETFROM:+0000
TZOFFSETTO:+0000
DTSTART:20210521T120000
TZNAME:UTC
END:STANDARD
END:VTIMEZONE
BEGIN:VTIMEZONE
TZID:UTC
BEGIN:STANDARD
TZOFFSETFROM:+0000
TZOFFSETTO:+0000
DTSTART:20210521T120000
TZNAME:UTC
END:STANDARD
END:VTIMEZONE
BEGIN:VEVENT
SUMMARY:Salem Regional Qualifying Tournament
DESCRIPTION:Salem Regional Qualifying Tournament\nFIRST LEGO League Chal
 lenge\nRoanoke College\n\n\n 	Please note:  All events are subject to c
 hange as we adjust to COVID-19 protocols and procedures.\n 	Tournament P
 reference Selection will be open between October 1st and October 10th. 
  Find out more HERE\n 	Use the Team Manager Account to register your tea
 m for a VA-DC FLL event and select your tournament preferences.  https:
 //teammanager.va-dcfll.org/\n 	Tournament assignments will be posted by 
 October 15th.  After that\, teams will receive more specific details re
 garding the event schedule.\n 	Coaches Meeting and Judging Session will 
 happen virtually during the week before the event\n 	Robot Game will hap
 pen in-person on the day of the event at the scheduled location\n 	Closi
 ng Ceremonies will happen virtually or in-person depending on the tourna
 ment venue.\n 	Masks are required for all event participants (teams\, co
 ach/mentors\, and volunteers)\n 	With all the uncertainty plans may have
  to change as we get closer to the events.  We will be releasing more g
 uidance on this soon! Stay tuned to our bi-Weekly Coach Chats and COVID-
 19 updates page!\n\n\n\n&nbsp\;
URL;VALUE=URI:https://va-dcfll.org/events/salem/
UID:urn:uuid:1ce4e42d-b6a3-4743-87f8-c1e19850a89d
STATUS:CONFIRMED
ORGANIZER:
DTSTAMP:20260421T081630Z
DTSTART;VALUE=DATE:20211120
LOCATION:221 College Ln\, Salem\, VA 24153
END:VEVENT
END:VCALENDAR