BEGIN:VCALENDAR
METHOD:PUBLISH
VERSION:2.0
CALSCALE:GREGORIAN
PRODID:-//NONSGML WPForms//NONSGML Sugar Calendar Feeds v3.10.0//EN
X-WR-CALNAME:Richmond Regional Qualifying Tournament
X-WR-CALDESC:VA-DC FIRST LEGO League
X-WR-TIMEZONE:UTC
BEGIN:VTIMEZONE
TZID:UTC
BEGIN:STANDARD
TZOFFSETFROM:+0000
TZOFFSETTO:+0000
DTSTART:20210515T120000
TZNAME:UTC
END:STANDARD
END:VTIMEZONE
BEGIN:VTIMEZONE
TZID:UTC
BEGIN:STANDARD
TZOFFSETFROM:+0000
TZOFFSETTO:+0000
DTSTART:20210515T120000
TZNAME:UTC
END:STANDARD
END:VTIMEZONE
BEGIN:VEVENT
SUMMARY:Richmond Regional Qualifying Tournament
DESCRIPTION:Richmond Regional Qualifying Tournament\nFIRST LEGO League C
 hallenge\n Maggie L. Walker Governor's School\n\n\n 	Please note:  All
  events are subject to change as we adjust to COVID-19 protocols and pro
 cedures.\n 	Tournament Preference Selection will be open between October
  1st and October 10th.  Find out more HERE\n 	Use the Team Manager Acco
 unt to register your team for a VA-DC FLL event and select your tourname
 nt preferences.  https://teammanager.va-dcfll.org/\n 	Tournament assign
 ments will be posted by October 15th.  After that\, teams will receive 
 more specific details regarding the event schedule.\n 	Coaches Meeting a
 nd Judging Session will happen virtually during the week before the even
 t\n 	Robot Game will happen in-person on the day of the event at the sch
 eduled location\n 	Closing Ceremonies will happen virtually or in-person
  depending on the tournament venue.\n 	Masks are required for all event 
 participants (teams\, coach/mentors\, and volunteers)\n 	With all the un
 certainty plans may have to change as we get closer to the events.  We 
 will be releasing more guidance on this soon! Stay tuned to our bi-Weekl
 y Coach Chats and COVID-19 updates page!\n\n\n\n&nbsp\;
URL;VALUE=URI:https://va-dcfll.org/events/richmond/
UID:urn:uuid:1ce4e42d-b6a3-4743-87f8-c1e19850a89d
STATUS:CONFIRMED
ORGANIZER:
DTSTAMP:20260421T081630Z
DTSTART;VALUE=DATE:20211114
LOCATION:1000 N Lombardy St\, Richmond\, VA 23220
END:VEVENT
END:VCALENDAR