BEGIN:VCALENDAR
METHOD:PUBLISH
VERSION:2.0
CALSCALE:GREGORIAN
PRODID:-//NONSGML WPForms//NONSGML Sugar Calendar Feeds v3.10.0//EN
X-WR-CALNAME:(Norfolk) Remote Regional Qualifier 5
X-WR-CALDESC:VA-DC FIRST LEGO League
X-WR-TIMEZONE:UTC
BEGIN:VTIMEZONE
TZID:UTC
BEGIN:STANDARD
TZOFFSETFROM:+0000
TZOFFSETTO:+0000
DTSTART:20200807T120000
TZNAME:UTC
END:STANDARD
END:VTIMEZONE
BEGIN:VTIMEZONE
TZID:UTC
BEGIN:STANDARD
TZOFFSETFROM:+0000
TZOFFSETTO:+0000
DTSTART:20200807T120000
TZNAME:UTC
END:STANDARD
END:VTIMEZONE
BEGIN:VEVENT
SUMMARY:(Norfolk) Remote Regional Qualifier 5
DESCRIPTION:Coaches will receive emails outlining their team schedule cl
 oser to the day of their event\, but for planning purposes... check out 
 the event schedules and judging sessions below!  You can also find out 
 more about how to submit your team materials (Project presentation\, rob
 ot game etc).  If you have any questions\, please reach out to your tou
 rnament directors\, Karl Meister.  If you have questions about submitti
 ng materials\, please reach out to Kaitlin Ilnitzki.\nEVENT SCHEDULE\nWh
 ile we want teams to participate as much as possible\, we know that will
  not always be an option.  The only mandatory portion will be the team'
 s Judging Session (listed below).  Teams will also be able to check out
  the Robot Game Leaderboard for score updates and participate in virtual
  activities throughout the day!  The Opening and Closing Ceremony will 
 be recorded so teams can watch at a later date.\n\n\n\n\nTime\nEvent\nLi
 nk\n\n\n8:00 AM\nCoaches Meeting\nSent to Lead Coach\n\n\n8:30 AM\nOpeni
 ng Ceremony\nWatch Live!\n\n\n9:00 AM - 3:00 PM\nJudging Sessions\nSent 
 to Lead Coach\n\n\n11:00 AM - 4:00 PM\nVirtual Activities\nJoin Us!\n\n\
 n4:30 PM\nClosing Ceremony\nWatch Live!\n\n\n\nJUDGING SESSIONS\nCoaches
  will receive the Zoom link to their judging session through email so it
  can be distributed to the team before the event.  The judging session 
 will last 25 minutes (judges will watch the project presentation meeting
  the teams in the judging Zoom room.  Teams will be able to enter the j
 udging room early to get set up and make sure everyone is connected.  D
 uring the judging session\, teams will also have screen sharing capabili
 ties within the Zoom room.\n\n    \n\n\nJudging Team 1\nTeam Number\nTea
 m Name\nDivision\n\n\n9:15 AM\n50323\nRobotics Royale\nDiv. 1\n\n\n10:10
  AM\n2916\nTeam 2916\nDiv. 1\n\n\n11:05 AM\n9021\nGreenbrier Panthers\nD
 iv. 1\n\n\n12:30 PM\n44869\nFiery Phoenix\nDiv. 1\n\n\n1:25 PM\n20019\nE
 nergizers\nDiv. 1\n\n\n2:20 PM\n46140\nNeptune's Fury\nDiv. 1\n\n\nJudgi
 ng Team 2\nTeam Number\nTeam Name\nDivision\n\n\n9:30 AM\n11343\ntechnos
 tormers\nDiv. 2\n\n\n10:25 AM\n38703\nStrikers\nDiv. 2\n\n\n11:20 AM\n90
 76\nLord of the Bricks\nDiv. 2\n\n\n12:45 PM\n28479\nYukon\nDiv. 2\n\n\n
 1:40 PM\n40305\nKnights of Ni\nDiv. 2\n\n\nJudging Team 3\nTeam Number\n
 Team Name\nDivision\n\n\n9:45 AM\n51544\nBalto\nDiv. 2\n\n\n10:40 AM\n40
 815\nThe Control Freaks\nDiv. 2\n\n\n11:35 AM\n10989\nAlbertoes\nDiv. 2\
 n\n\n1:00 PM\n51349\nFLL Challenge Chesapeake\nDiv. 2\n\n\n\nRemote Tour
 nament Guidelines\nSubmit your Practice Game Round\nSubmit your Event Ma
 terials 
URL;VALUE=URI:https://va-dcfll.org/events/norfolk-qualifier/
UID:urn:uuid:91bb655e-3738-467f-9bdb-c1e35bf93639
STATUS:CONFIRMED
ORGANIZER:
DTSTAMP:20260421T093608Z
DTSTART;VALUE=DATE:20210206
END:VEVENT
END:VCALENDAR