BEGIN:VCALENDAR
METHOD:PUBLISH
VERSION:2.0
CALSCALE:GREGORIAN
PRODID:-//NONSGML WPForms//NONSGML Sugar Calendar Feeds v3.10.0//EN
X-WR-CALNAME:NOAA "Ask an Explorer" Webinar
X-WR-CALDESC:VA-DC FIRST LEGO League
X-WR-TIMEZONE:UTC
BEGIN:VTIMEZONE
TZID:UTC
BEGIN:STANDARD
TZOFFSETFROM:+0000
TZOFFSETTO:+0000
DTSTART:20240403T050000
TZNAME:UTC
END:STANDARD
END:VTIMEZONE
BEGIN:VTIMEZONE
TZID:UTC
BEGIN:STANDARD
TZOFFSETFROM:+0000
TZOFFSETTO:+0000
DTSTART:20240403T050000
TZNAME:UTC
END:STANDARD
END:VTIMEZONE
BEGIN:VEVENT
SUMMARY:NOAA "Ask an Explorer" Webinar
DESCRIPTION:
URL;VALUE=URI:https://va-dcfll.org/events/noaa-ask-an-explorer-webinar/
UID:urn:uuid:455186da-5879-434e-897a-add11815ac21
STATUS:CONFIRMED
ORGANIZER:
DTSTAMP:20260421T093615Z
DTSTART;TZID=UTC:20241002T170000
DTEND;TZID=UTC:20241002T170000
END:VEVENT
END:VCALENDAR