BEGIN:VCALENDAR
METHOD:PUBLISH
VERSION:2.0
CALSCALE:GREGORIAN
PRODID:-//NONSGML WPForms//NONSGML Sugar Calendar Feeds v3.10.0//EN
X-WR-CALNAME:Henrico FLL Challenge Workshop
X-WR-CALDESC:VA-DC FIRST LEGO League
X-WR-TIMEZONE:UTC
BEGIN:VTIMEZONE
TZID:UTC
BEGIN:STANDARD
TZOFFSETFROM:+0000
TZOFFSETTO:+0000
DTSTART:20240305T063000
TZNAME:UTC
END:STANDARD
END:VTIMEZONE
BEGIN:VTIMEZONE
TZID:UTC
BEGIN:STANDARD
TZOFFSETFROM:+0000
TZOFFSETTO:+0000
DTSTART:20240305T063000
TZNAME:UTC
END:STANDARD
END:VTIMEZONE
BEGIN:VEVENT
SUMMARY:Henrico FLL Challenge Workshop
DESCRIPTION:FIRST LEGO League SUBMERGED Expert Workshop\n\nCalling all V
 A/DC FLL Teams!!!  FIRST Robotics Competition Team 1086 Blue Cheese is 
 hosting underwater expert Brendan Burke to speak to FLL teams about unde
 rwater archeology and exploration.\n\nWe will also watch the Robot Game 
 mission video and go over any updates that have been released.\n\nSEE FL
 YER FOR MORE DETAILS\n\n&nbsp\;\n\n&nbsp\;
URL;VALUE=URI:https://va-dcfll.org/events/henrico-fll-challenge-workshop
 /
UID:urn:uuid:011ef40f-e0ba-4d5d-848f-dc1847166af2
STATUS:CONFIRMED
ORGANIZER:
DTSTAMP:20260421T082015Z
DTSTART;TZID=UTC:20240903T183000
DTEND;TZID=UTC:20240903T193000
LOCATION:Tuckahoe Library\, 1901 Starling Dr\, Henrico\, VA 23229
END:VEVENT
END:VCALENDAR