BEGIN:VCALENDAR
METHOD:PUBLISH
VERSION:2.0
CALSCALE:GREGORIAN
PRODID:-//NONSGML WPForms//NONSGML Sugar Calendar Feeds v3.10.0//EN
X-WR-CALNAME:(Harrisonburg) Remote Regional Qualifier 5
X-WR-CALDESC:VA-DC FIRST LEGO League
X-WR-TIMEZONE:UTC
BEGIN:VTIMEZONE
TZID:UTC
BEGIN:STANDARD
TZOFFSETFROM:+0000
TZOFFSETTO:+0000
DTSTART:20200807T120000
TZNAME:UTC
END:STANDARD
END:VTIMEZONE
BEGIN:VTIMEZONE
TZID:UTC
BEGIN:STANDARD
TZOFFSETFROM:+0000
TZOFFSETTO:+0000
DTSTART:20200807T120000
TZNAME:UTC
END:STANDARD
END:VTIMEZONE
BEGIN:VEVENT
SUMMARY:(Harrisonburg) Remote Regional Qualifier 5
DESCRIPTION:Coaches will receive emails outlining their team schedule cl
 oser to the day of their event\, but for planning purposes... check out 
 the event schedules and judging sessions below!  You can also find out 
 more about how to submit your team materials (Project presentation\, rob
 ot game etc).  If you have any questions\, please reach out to your tou
 rnament directors\, Emily Winter.  If you have questions about submitti
 ng materials\, please reach out to Kaitlin Ilnitzki.\nEVENT SCHEDULE\nWh
 ile we want teams to participate as much as possible\, we know that will
  not always be an option.  The only mandatory portion will be the team'
 s Judging Session (listed below).  Teams will also be able to check out
  the Robot Game Leaderboard for score updates and participate in virtual
  activities throughout the day!  The Opening and Closing Ceremony will 
 be recorded so teams can watch at a later date.\n\n\n\n\nTime\nEvent\nLi
 nk\n\n\n8:30 AM\nCoaches Meeting\nSent to Lead Coach\n\n\n9:00 AM\nOpeni
 ng Ceremony\nWatch Live!\n\n\n9:30 AM - 3:00 PM\nJudging Sessions\nSent 
 to Lead Coach\n\n\n11:00 AM - 4:00 PM\nVirtual Activities\nJoin us!\n\n\
 n4:00 PM\nClosing Ceremony\nWatch Live!\n\n\n\nJUDGING SESSIONS\nCoaches
  will receive the Zoom link to their judging session through email so it
  can be distributed to the team before the event.  The judging session 
 will last 25 minutes (judges will watch the project presentation meeting
  the teams in the judging Zoom room.  Teams will be able to enter the j
 udging room early to get set up and make sure everyone is connected.  D
 uring the judging session\, teams will also have screen sharing capabili
 ties within the Zoom room.\n&nbsp\;\n\n\n\nJudging Team 3\nTeam Number\n
 Team Name\nDivision\n\n\n10:00AM\n49078\nSpunkies\nDiv 1\n\n\n10:55 AM\n
 45545\nBrick Tacos\nDiv 1\n\n\n11:50 AM\n23582\nTune Squad\nDiv 1\n\n\n1
 :15 PM\n51838\nBeAttitudeBuilders8\nDiv 1\n\n\n2:10 PM\n31515\nThe Robot
  Eagles\nDiv 1\n\n\n\n&nbsp\;\n\n\n\nJudging Team 3\nTeam Number\nTeam N
 ame\nDivision\n\n\n9:45 AM\n2673\nReturn of the Jedi Penguins:Rise of th
 e SkyWaddlers\nDiv 2\n\n\n10:40 AM\n31517\nTrailblazers\nDiv 2\n\n\n11:3
 5 AM\n31516\nThe Bodaciously Bold and Brilliant Trailblazers\nDiv 2\n\n\
 n1:00 PM\n36355\nMonelison Trobots\nDiv 2\n\n\n1:55 PM\n38762\nPluto is 
 a planet too\nDiv 2\n\n\n\nRemote Tournament Guidelines\nSubmit your Pra
 ctice Robot Game Round\nSubmit your Event Materials
URL;VALUE=URI:https://va-dcfll.org/events/harrisonburg-qualifier/
UID:urn:uuid:86998de7-c5c5-4293-ba47-b6f8283a8809
STATUS:CONFIRMED
ORGANIZER:
DTSTAMP:20260421T081824Z
DTSTART;VALUE=DATE:20210206
END:VEVENT
END:VCALENDAR