BEGIN:VCALENDAR
METHOD:PUBLISH
VERSION:2.0
CALSCALE:GREGORIAN
PRODID:-//NONSGML WPForms//NONSGML Sugar Calendar Feeds v3.10.0//EN
X-WR-CALNAME:Harrisonburg FLL Explore Festival
X-WR-CALDESC:VA-DC FIRST LEGO League
X-WR-TIMEZONE:UTC
BEGIN:VTIMEZONE
TZID:UTC
BEGIN:STANDARD
TZOFFSETFROM:+0000
TZOFFSETTO:+0000
DTSTART:20211023T120000
TZNAME:UTC
END:STANDARD
END:VTIMEZONE
BEGIN:VTIMEZONE
TZID:UTC
BEGIN:STANDARD
TZOFFSETFROM:+0000
TZOFFSETTO:+0000
DTSTART:20211023T120000
TZNAME:UTC
END:STANDARD
END:VTIMEZONE
BEGIN:VEVENT
SUMMARY:Harrisonburg FLL Explore Festival
DESCRIPTION:Registration for this event will open on Friday\, February 1
 8th at 10AM.\nFind out more about our FLL Explore Festivals and how to r
 egister you team:  https://va-dcfll.org/fll-explore/team-resources/even
 t-registration
URL;VALUE=URI:https://va-dcfll.org/events/harrisonburg-fll-explore-festi
 val/
UID:urn:uuid:82b0eddc-4ac0-450b-ba3d-b23f14afd793
STATUS:CONFIRMED
ORGANIZER:
DTSTAMP:20260424T135747Z
DTSTART;TZID=UTC:20220424T000000
DTEND;TZID=UTC:20220424T000000
LOCATION:Explore More Discovery Museum\n150 S Main St\nHarrisonburg\, VA
  22801
END:VEVENT
END:VCALENDAR