BEGIN:VCALENDAR
METHOD:PUBLISH
VERSION:2.0
CALSCALE:GREGORIAN
PRODID:-//NONSGML WPForms//NONSGML Sugar Calendar Feeds v3.10.0//EN
X-WR-CALNAME:Hampton Roads FLL Challenge Coaching Kick Off
X-WR-CALDESC:VA-DC FIRST LEGO League
X-WR-TIMEZONE:UTC
BEGIN:VTIMEZONE
TZID:UTC
BEGIN:STANDARD
TZOFFSETFROM:+0000
TZOFFSETTO:+0000
DTSTART:20240309T023000
TZNAME:UTC
END:STANDARD
END:VTIMEZONE
BEGIN:VTIMEZONE
TZID:UTC
BEGIN:STANDARD
TZOFFSETFROM:+0000
TZOFFSETTO:+0000
DTSTART:20240309T023000
TZNAME:UTC
END:STANDARD
END:VTIMEZONE
BEGIN:VEVENT
SUMMARY:Hampton Roads FLL Challenge Coaching Kick Off
DESCRIPTION:Hampton Roads FLL Coaches\,\n\nWe will be hosting a FLL Subm
 erged Coaching kick off on Saturday\, September 7th at 2:30 pm in York C
 ounty and we'd love to have you join us if you're interested!  It is op
 en to local coaches and we will cover the missions\, rules\, judging and
  what to expect at a tournament.  This meeting is for coaches/mentors o
 nly (we won't be set up for team members).\n\nIf you are interested in a
 ttending this coaching kick off\, please email karen@va-dcfll.org for mo
 re details.
URL;VALUE=URI:https://va-dcfll.org/events/hampton-roads-fll-challenge-co
 aching-kick-off/
UID:urn:uuid:1f66e577-7c96-474a-b934-0d2fbf6f1a84
STATUS:CONFIRMED
ORGANIZER:
DTSTAMP:20260423T103054Z
DTSTART;TZID=UTC:20240907T143000
DTEND;TZID=UTC:20240907T143000
LOCATION:York County\, VA
END:VEVENT
END:VCALENDAR