BEGIN:VCALENDAR
METHOD:PUBLISH
VERSION:2.0
CALSCALE:GREGORIAN
PRODID:-//NONSGML WPForms//NONSGML Sugar Calendar Feeds v3.10.0//EN
X-WR-CALNAME:Glen Allen FLL Challenge Qualifying Tournament
X-WR-CALDESC:VA-DC FIRST LEGO League
X-WR-TIMEZONE:UTC
BEGIN:VTIMEZONE
TZID:UTC
BEGIN:STANDARD
TZOFFSETFROM:+0000
TZOFFSETTO:+0000
DTSTART:20240510T120000
TZNAME:UTC
END:STANDARD
END:VTIMEZONE
BEGIN:VTIMEZONE
TZID:UTC
BEGIN:STANDARD
TZOFFSETFROM:+0000
TZOFFSETTO:+0000
DTSTART:20240510T120000
TZNAME:UTC
END:STANDARD
END:VTIMEZONE
BEGIN:VEVENT
SUMMARY:Glen Allen FLL Challenge Qualifying Tournament
DESCRIPTION:
URL;VALUE=URI:https://va-dcfll.org/events/glen-allen-fllc-2024/
UID:urn:uuid:6215f3fe-1e61-4459-aa22-2547d1ec0869
STATUS:CONFIRMED
ORGANIZER:
DTSTAMP:20260421T095436Z
DTSTART;VALUE=DATE:20241109
LOCATION:Deep Run High School\, 4801 Twin Hickory Rd\, Glen Allen\, VA 2
 3059
END:VEVENT
END:VCALENDAR