BEGIN:VCALENDAR
METHOD:PUBLISH
VERSION:2.0
CALSCALE:GREGORIAN
PRODID:-//NONSGML WPForms//NONSGML Sugar Calendar Feeds v3.10.0//EN
X-WR-CALNAME:FLL Challenge - Season Challenge Global Release
X-WR-CALDESC:VA-DC FIRST LEGO League
X-WR-TIMEZONE:UTC
BEGIN:VTIMEZONE
TZID:UTC
BEGIN:STANDARD
TZOFFSETFROM:+0000
TZOFFSETTO:+0000
DTSTART:20200204T000000
TZNAME:UTC
END:STANDARD
END:VTIMEZONE
BEGIN:VTIMEZONE
TZID:UTC
BEGIN:STANDARD
TZOFFSETFROM:+0000
TZOFFSETTO:+0000
DTSTART:20200204T000000
TZNAME:UTC
END:STANDARD
END:VTIMEZONE
BEGIN:VEVENT
SUMMARY:FLL Challenge - Season Challenge Global Release
DESCRIPTION:Check out FIRSTinspires twitch TV on August 4th at 12pm to f
 ind out more about the RePlay season details!\n\n\n&nbsp\;
URL;VALUE=URI:https://va-dcfll.org/events/fll-season-released/
UID:urn:uuid:c090dce8-5c01-480c-b122-c195b4e667ae
STATUS:CONFIRMED
ORGANIZER:
DTSTAMP:20260423T084114Z
DTSTART;TZID=UTC:20200804T120000
DTEND;TZID=UTC:20200804T120000
END:VEVENT
END:VCALENDAR