BEGIN:VCALENDAR
METHOD:PUBLISH
VERSION:2.0
CALSCALE:GREGORIAN
PRODID:-//NONSGML WPForms//NONSGML Sugar Calendar Feeds v3.10.0//EN
X-WR-CALNAME:FLL Explore - Season Challenge Global Release
X-WR-CALDESC:VA-DC FIRST LEGO League
X-WR-TIMEZONE:UTC
BEGIN:VTIMEZONE
TZID:UTC
BEGIN:STANDARD
TZOFFSETFROM:+0000
TZOFFSETTO:+0000
DTSTART:20200204T010000
TZNAME:UTC
END:STANDARD
END:VTIMEZONE
BEGIN:VTIMEZONE
TZID:UTC
BEGIN:STANDARD
TZOFFSETFROM:+0000
TZOFFSETTO:+0000
DTSTART:20200204T010000
TZNAME:UTC
END:STANDARD
END:VTIMEZONE
BEGIN:VEVENT
SUMMARY:FLL Explore - Season Challenge Global Release
DESCRIPTION:Check out FIRSTinspires twitch TV on August 4th at 1pm to fi
 nd out more about the Playmakers season details!
URL;VALUE=URI:https://va-dcfll.org/events/fll-explore-season-challenge-g
 lobal-release/
UID:urn:uuid:f1230d01-fb4b-486c-9c89-4df2ab18a1d7
STATUS:CONFIRMED
ORGANIZER:
DTSTAMP:20260419T142935Z
DTSTART;TZID=UTC:20200804T130000
DTEND;TZID=UTC:20200804T130000
END:VEVENT
END:VCALENDAR