BEGIN:VCALENDAR
METHOD:PUBLISH
VERSION:2.0
CALSCALE:GREGORIAN
PRODID:-//NONSGML WPForms//NONSGML Sugar Calendar Feeds v3.10.0//EN
X-WR-CALNAME:FLL Challenge Webinar:  Season Updates
X-WR-CALDESC:VA-DC FIRST LEGO League
X-WR-TIMEZONE:UTC
BEGIN:VTIMEZONE
TZID:UTC
BEGIN:STANDARD
TZOFFSETFROM:+0000
TZOFFSETTO:+0000
DTSTART:20200225T070000
TZNAME:UTC
END:STANDARD
END:VTIMEZONE
BEGIN:VTIMEZONE
TZID:UTC
BEGIN:STANDARD
TZOFFSETFROM:+0000
TZOFFSETTO:+0000
DTSTART:20200225T070000
TZNAME:UTC
END:STANDARD
END:VTIMEZONE
BEGIN:VEVENT
SUMMARY:FLL Challenge Webinar:  Season Updates
DESCRIPTION:2020-2021 VA+DC FIRST LEGO League Webinar Series:\nSeason Up
 dates\n\n\n\n\nThe burning questions of what the season will look like i
 s finally here.  Join us for the announcement of the logistics\, event 
 schedules\, consolidated judging\, division systems\, and so much more!\
 n\n\n\n\n\n\n\nREGISTER HERE
URL;VALUE=URI:https://va-dcfll.org/events/fll-challenge-webinar-season-u
 pdates/
UID:urn:uuid:8da9fd59-482f-48ed-a1d8-1fc122c20d74
STATUS:CONFIRMED
ORGANIZER:
DTSTAMP:20260421T082045Z
DTSTART;TZID=UTC:20200825T190000
DTEND;TZID=UTC:20200825T190000
END:VEVENT
END:VCALENDAR