BEGIN:VCALENDAR
METHOD:PUBLISH
VERSION:2.0
CALSCALE:GREGORIAN
PRODID:-//NONSGML WPForms//NONSGML Sugar Calendar Feeds v3.10.0//EN
X-WR-CALNAME:FLL Challenge Webinar:  Robot Design
X-WR-CALDESC:VA-DC FIRST LEGO League
X-WR-TIMEZONE:UTC
BEGIN:VTIMEZONE
TZID:UTC
BEGIN:STANDARD
TZOFFSETFROM:+0000
TZOFFSETTO:+0000
DTSTART:20200324T070000
TZNAME:UTC
END:STANDARD
END:VTIMEZONE
BEGIN:VTIMEZONE
TZID:UTC
BEGIN:STANDARD
TZOFFSETFROM:+0000
TZOFFSETTO:+0000
DTSTART:20200324T070000
TZNAME:UTC
END:STANDARD
END:VTIMEZONE
BEGIN:VEVENT
SUMMARY:FLL Challenge Webinar:  Robot Design
DESCRIPTION:2020-2021 VA+DC FIRST LEGO League Webinar Series:\nROBOT DES
 IGN\n\n\n\n\nTeams from VA-DC FIRST LEGO League join us in providing adv
 ice and first hand experience on their approach to designing their award
  winning robots.\n\n\n\n\n\n\n\nREGISTER HERE
URL;VALUE=URI:https://va-dcfll.org/events/fll-challenge-webinar-robot-de
 sign/
UID:urn:uuid:82b006b7-aa7a-4279-96bb-199143ee6142
STATUS:CONFIRMED
ORGANIZER:
DTSTAMP:20260421T092841Z
DTSTART;TZID=UTC:20200922T190000
DTEND;TZID=UTC:20200922T190000
END:VEVENT
END:VCALENDAR