BEGIN:VCALENDAR
METHOD:PUBLISH
VERSION:2.0
CALSCALE:GREGORIAN
PRODID:-//NONSGML WPForms//NONSGML Sugar Calendar Feeds v3.10.0//EN
X-WR-CALNAME:FLL Challenge Webinar:  Prepare your Team for an Event
X-WR-CALDESC:VA-DC FIRST LEGO League
X-WR-TIMEZONE:UTC
BEGIN:VTIMEZONE
TZID:UTC
BEGIN:STANDARD
TZOFFSETFROM:+0000
TZOFFSETTO:+0000
DTSTART:20200609T070000
TZNAME:UTC
END:STANDARD
END:VTIMEZONE
BEGIN:VTIMEZONE
TZID:UTC
BEGIN:STANDARD
TZOFFSETFROM:+0000
TZOFFSETTO:+0000
DTSTART:20200609T070000
TZNAME:UTC
END:STANDARD
END:VTIMEZONE
BEGIN:VEVENT
SUMMARY:FLL Challenge Webinar:  Prepare your Team for an Event
DESCRIPTION:2020-2021 VA+DC FIRST LEGO League Webinar Series:\nWhat to E
 xpect:  Preparing for an Event\n\n\n\n\n\n\nHear from our regional plan
 ning team on what you should expect at a VA-DC FIRST LEGO League Challen
 ge Event during COVID-19.\n\n\n\n\n\n\nREGISTER HERE
URL;VALUE=URI:https://va-dcfll.org/events/fll-challenge-webinar-prepare-
 your-team-for-an-event/
UID:urn:uuid:582ba911-94d9-40ac-b503-e2df15f143a6
STATUS:CONFIRMED
ORGANIZER:
DTSTAMP:20260421T082221Z
DTSTART;TZID=UTC:20201208T190000
DTEND;TZID=UTC:20201208T190000
END:VEVENT
END:VCALENDAR