BEGIN:VCALENDAR
METHOD:PUBLISH
VERSION:2.0
CALSCALE:GREGORIAN
PRODID:-//NONSGML WPForms//NONSGML Sugar Calendar Feeds v3.10.0//EN
X-WR-CALNAME:FLL Challenge Webinar:  Innovation Project & Global Innovat
 ion Award
X-WR-CALDESC:VA-DC FIRST LEGO League
X-WR-TIMEZONE:UTC
BEGIN:VTIMEZONE
TZID:UTC
BEGIN:STANDARD
TZOFFSETFROM:+0000
TZOFFSETTO:+0000
DTSTART:20200414T070000
TZNAME:UTC
END:STANDARD
END:VTIMEZONE
BEGIN:VTIMEZONE
TZID:UTC
BEGIN:STANDARD
TZOFFSETFROM:+0000
TZOFFSETTO:+0000
DTSTART:20200414T070000
TZNAME:UTC
END:STANDARD
END:VTIMEZONE
BEGIN:VEVENT
SUMMARY:FLL Challenge Webinar:  Innovation Project & Global Innovation A
 ward
DESCRIPTION:2020-2021 VA+DC FIRST LEGO League Webinar Series:\nTAKE YOUR
  PROJECT TO THE NEXT LEVEL\nGLOBAL INNOVATION AWARD\n\n\n\n\nVA-DC FIRST
  LEGO League Global Innovation nominees will be answering your questions
  and narrating their journey through the process.   We will also hear 
 about how they took their project to the next level!\n\n\n\n\n\n\n\nREGI
 STER HERE
URL;VALUE=URI:https://va-dcfll.org/events/fll-challenge-webinar-innovati
 on-project-global-innovation-award/
UID:urn:uuid:ddd945ab-b391-4ce9-a9f6-9d10240f0f84
STATUS:CONFIRMED
ORGANIZER:
DTSTAMP:20260421T082203Z
DTSTART;TZID=UTC:20201013T190000
DTEND;TZID=UTC:20201013T190000
END:VEVENT
END:VCALENDAR