BEGIN:VCALENDAR
METHOD:PUBLISH
VERSION:2.0
CALSCALE:GREGORIAN
PRODID:-//NONSGML WPForms//NONSGML Sugar Calendar Feeds v3.10.0//EN
X-WR-CALNAME:FLL Challenge Tournament Preference Selection
X-WR-CALDESC:VA-DC FIRST LEGO League
X-WR-TIMEZONE:UTC
BEGIN:VTIMEZONE
TZID:UTC
BEGIN:STANDARD
TZOFFSETFROM:+0000
TZOFFSETTO:+0000
DTSTART:20240401T220000
TZNAME:UTC
END:STANDARD
END:VTIMEZONE
BEGIN:VTIMEZONE
TZID:UTC
BEGIN:STANDARD
TZOFFSETFROM:+0000
TZOFFSETTO:+0000
DTSTART:20240401T220000
TZNAME:UTC
END:STANDARD
END:VTIMEZONE
BEGIN:VEVENT
SUMMARY:FLL Challenge Tournament Preference Selection
DESCRIPTION:FLL Challenge teams should follow these steps to submit thei
 r teams' Tournament Preferences during October 1st and October 10th\n\nh
 ttps://va-dcfll.org/fll-c/teams/event-registration/
URL;VALUE=URI:https://va-dcfll.org/events/fll-challenge-tournament-prefe
 rence-selection/
UID:urn:uuid:e9179211-5add-40b9-9e2a-949a545e79ad
STATUS:CONFIRMED
ORGANIZER:
DTSTAMP:20260419T142451Z
DTSTART;TZID=UTC:20241001T100000
DTEND;TZID=UTC:20241010T235500
END:VEVENT
END:VCALENDAR