BEGIN:VCALENDAR
METHOD:PUBLISH
VERSION:2.0
CALSCALE:GREGORIAN
PRODID:-//NONSGML WPForms//NONSGML Sugar Calendar Feeds v3.10.0//EN
X-WR-CALNAME:FLL Challenge Remote Rumble 2
X-WR-CALDESC:VA-DC FIRST LEGO League
X-WR-TIMEZONE:UTC
BEGIN:VTIMEZONE
TZID:UTC
BEGIN:STANDARD
TZOFFSETFROM:+0000
TZOFFSETTO:+0000
DTSTART:20210820T120000
TZNAME:UTC
END:STANDARD
END:VTIMEZONE
BEGIN:VTIMEZONE
TZID:UTC
BEGIN:STANDARD
TZOFFSETFROM:+0000
TZOFFSETTO:+0000
DTSTART:20210820T120000
TZNAME:UTC
END:STANDARD
END:VTIMEZONE
BEGIN:VEVENT
SUMMARY:FLL Challenge Remote Rumble 2
DESCRIPTION:Event Page: https://va-dcfll.org/remote-rumble-event-2/  (T
 eam registration is closed)\n\nVolunteer: https://flltournament.com/even
 tlist.aspx (Search 2021 Cargo Connect and VA(USA)\n\n&nbsp\;
URL;VALUE=URI:https://va-dcfll.org/events/fll-challenge-remote-rumble-2/
UID:urn:uuid:5b93e068-e076-4656-af84-8b79ec47a1e7
STATUS:CONFIRMED
ORGANIZER:
DTSTAMP:20260423T100952Z
DTSTART;VALUE=DATE:20220219
END:VEVENT
END:VCALENDAR