BEGIN:VCALENDAR
METHOD:PUBLISH
VERSION:2.0
CALSCALE:GREGORIAN
PRODID:-//NONSGML WPForms//NONSGML Sugar Calendar Feeds v3.10.0//EN
X-WR-CALNAME:FLL Challenge Meet Up
X-WR-CALDESC:VA-DC FIRST LEGO League
X-WR-TIMEZONE:UTC
BEGIN:VTIMEZONE
TZID:UTC
BEGIN:STANDARD
TZOFFSETFROM:+0000
TZOFFSETTO:+0000
DTSTART:20250502T230000
TZNAME:UTC
END:STANDARD
END:VTIMEZONE
BEGIN:VTIMEZONE
TZID:UTC
BEGIN:STANDARD
TZOFFSETFROM:+0000
TZOFFSETTO:+0000
DTSTART:20250502T230000
TZNAME:UTC
END:STANDARD
END:VTIMEZONE
BEGIN:VEVENT
SUMMARY:FLL Challenge Meet Up
DESCRIPTION:The Norfolk Collegiate O.A.K.S. would like to invite teams f
 or a meetup on Saturday\, Nov 1 2025\, from 11:00 to 1:00. This will be 
 a great opportunity to share your project ideas and try your robot on a 
 different table. All teams are welcome\, no matter where you are on your
  progress. Coaches\, team members\, and parents are welcome. This is not
  a scrimmage event\, but if anyone wants to try a full robot game run\, 
 that will be fine! But definitely bring your robot\, and any project pre
 sentation materials that you would like to share.\n\nSpace is limited\, 
 so please email Skip directly at skip@pelorus.org.
URL;VALUE=URI:https://va-dcfll.org/events/fll-challenge-meet-up/
UID:urn:uuid:cf20630f-cee1-4dd8-bef2-ca290caa0031
STATUS:CONFIRMED
ORGANIZER:
DTSTAMP:20260421T081836Z
DTSTART;TZID=UTC:20251101T110000
DTEND;TZID=UTC:20251101T130000
LOCATION:Norfolk Collegiate\, Norfolk\, VA
END:VEVENT
END:VCALENDAR