BEGIN:VCALENDAR
METHOD:PUBLISH
VERSION:2.0
CALSCALE:GREGORIAN
PRODID:-//NONSGML WPForms//NONSGML Sugar Calendar Feeds v3.10.0//EN
X-WR-CALNAME:FLL Challenge Coach Chats
X-WR-CALDESC:VA-DC FIRST LEGO League
X-WR-TIMEZONE:UTC
BEGIN:VTIMEZONE
TZID:UTC
BEGIN:STANDARD
TZOFFSETFROM:+0000
TZOFFSETTO:+0000
DTSTART:20210325T070000
TZNAME:UTC
END:STANDARD
END:VTIMEZONE
BEGIN:VTIMEZONE
TZID:UTC
BEGIN:STANDARD
TZOFFSETFROM:+0000
TZOFFSETTO:+0000
DTSTART:20210325T070000
TZNAME:UTC
END:STANDARD
END:VTIMEZONE
BEGIN:VEVENT
SUMMARY:FLL Challenge Coach Chats
DESCRIPTION:FLL Challenge Coach Chats\n&nbsp\;\n\nJoin us for bi-weekly 
 calls as we give you all the updates on the Cargo Connect season\, provi
 de team resources\, and answer all of your questions.  Each call will c
 over a few important topics but most of the time will be reserved for co
 aches to ask questions and share resources!\n\nRegister HERE (You can re
 gister for one or multiple sessions)\n\n 	Thursday\, September 23rd from
  7pm-8pm EST (Event Registration and Project)\n 	Thursday\, October 7th 
 from 7pm-8pm EST (How to Prepare for an Event)\n 	Thursday\, October 21s
 t from 7pm-8pm EST (How to Prepare for an Event)\n 	Thursday\, November 
 11th from 7pm-8pm EST (General Questions)\n 	Thursday\, November 18th fr
 om 7pm-8pm EST (General Questions)\n 	Thursday\, December 9th from 7pm-8
 pm EST (General Questions)\n\n\n\n&nbsp\;\n\n&nbsp\;
URL;VALUE=URI:https://va-dcfll.org/events/fll-challenge-coach-chats-3/
UID:urn:uuid:fbe78127-3662-4735-be55-fcd04babdbe8
STATUS:CONFIRMED
ORGANIZER:
DTSTAMP:20260421T082022Z
DTSTART;TZID=UTC:20210923T190000
DTEND;TZID=UTC:20210923T200000
END:VEVENT
END:VCALENDAR