BEGIN:VCALENDAR
METHOD:PUBLISH
VERSION:2.0
CALSCALE:GREGORIAN
PRODID:-//NONSGML WPForms//NONSGML Sugar Calendar Feeds v3.10.0//EN
X-WR-CALNAME:FLL Challenge - Coach Chat
X-WR-CALDESC:VA-DC FIRST LEGO League
X-WR-TIMEZONE:UTC
BEGIN:VTIMEZONE
TZID:UTC
BEGIN:STANDARD
TZOFFSETFROM:+0000
TZOFFSETTO:+0000
DTSTART:20220323T070000
TZNAME:UTC
END:STANDARD
END:VTIMEZONE
BEGIN:VTIMEZONE
TZID:UTC
BEGIN:STANDARD
TZOFFSETFROM:+0000
TZOFFSETTO:+0000
DTSTART:20220323T070000
TZNAME:UTC
END:STANDARD
END:VTIMEZONE
BEGIN:VEVENT
SUMMARY:FLL Challenge - Coach Chat
DESCRIPTION:COACH CHATS: Join us every other Wednesday until events beg
 in in November as we give you all the updates on the Superpowered season
 \, provide team resources\, and answer all of your questions.  Each cal
 l will cover a few important topics but most of the time will be reserve
 d for coaches to ask questions and share resources!\n\nTODAY'S TOPIC:  
 SUPERPOWERED Innovation Project &amp\; Event Registration\n\nRegister H
 ERE  (You can register for one or multiple sessions). All sessions are
  from 7pm to 8pm EST. You will receive a confirmation email after submit
 ting registration.
URL;VALUE=URI:https://va-dcfll.org/events/fll-challenge-coach-chat-3/
UID:urn:uuid:c965776b-e014-49f9-907f-9921475060ed
STATUS:CONFIRMED
ORGANIZER:
DTSTAMP:20260421T095400Z
DTSTART;TZID=UTC:20220921T190000
DTEND;TZID=UTC:20220921T200000
END:VEVENT
END:VCALENDAR