BEGIN:VCALENDAR
METHOD:PUBLISH
VERSION:2.0
CALSCALE:GREGORIAN
PRODID:-//NONSGML WPForms//NONSGML Sugar Calendar Feeds v3.10.0//EN
X-WR-CALNAME:FIRST Chesapeake Programs Expo
X-WR-CALDESC:VA-DC FIRST LEGO League
X-WR-TIMEZONE:UTC
BEGIN:VTIMEZONE
TZID:UTC
BEGIN:STANDARD
TZOFFSETFROM:+0000
TZOFFSETTO:+0000
DTSTART:20220422T220000
TZNAME:UTC
END:STANDARD
END:VTIMEZONE
BEGIN:VTIMEZONE
TZID:UTC
BEGIN:STANDARD
TZOFFSETFROM:+0000
TZOFFSETTO:+0000
DTSTART:20220422T220000
TZNAME:UTC
END:STANDARD
END:VTIMEZONE
BEGIN:VEVENT
SUMMARY:FIRST Chesapeake Programs Expo
DESCRIPTION:Learn more about FIRST® LEGO® League\, FIRST® Tech Challe
 nge\, and FIRST® Robotics Competition robotics programs in District of 
 Columbia\, Maryland\, and Virginia.\n• Robotics exhibits from LEGOs to
  120+ pound FIRST Robotics Competition robots.\n• Test your skill driv
 ing a demo robot.\n• Learn more about volunteering or starting a FIRST
  robotics program in your school.\n• Be sure to check out the FIRST Te
 ch Scrimmage for veteran robotics teams from the New River Valley.\n• 
 On this day only – enjoy all of the fun and engaging exhibits at the m
 useum at no charge!\n• This FREE event is great fun for the entire fam
 ily\, from kindergarten to grandparents!\nLEARN MORE
URL;VALUE=URI:https://va-dcfll.org/events/first-chesapeake-programs-expo
 /
UID:urn:uuid:cb8dfb70-97e5-4838-b3b3-6bc38ea4b4c0
STATUS:CONFIRMED
ORGANIZER:
DTSTAMP:20260421T093825Z
DTSTART;TZID=UTC:20221022T100000
DTEND;TZID=UTC:20221022T160000
LOCATION:Science Museum of Western Virginia \n1 Market Square\, SE\, Roa
 noke\, VA
END:VEVENT
END:VCALENDAR