BEGIN:VCALENDAR
METHOD:PUBLISH
VERSION:2.0
CALSCALE:GREGORIAN
PRODID:-//NONSGML WPForms//NONSGML Sugar Calendar Feeds v3.10.0//EN
X-WR-CALNAME:(DC/Friendship) Remote Regional Qualifier 5
X-WR-CALDESC:VA-DC FIRST LEGO League
X-WR-TIMEZONE:UTC
BEGIN:VTIMEZONE
TZID:UTC
BEGIN:STANDARD
TZOFFSETFROM:+0000
TZOFFSETTO:+0000
DTSTART:20200807T120000
TZNAME:UTC
END:STANDARD
END:VTIMEZONE
BEGIN:VTIMEZONE
TZID:UTC
BEGIN:STANDARD
TZOFFSETFROM:+0000
TZOFFSETTO:+0000
DTSTART:20200807T120000
TZNAME:UTC
END:STANDARD
END:VTIMEZONE
BEGIN:VEVENT
SUMMARY:(DC/Friendship) Remote Regional Qualifier 5
DESCRIPTION:Coaches will receive emails outlining their team schedule cl
 oser to the day of their event\, but for planning purposes... check out 
 the event schedules and judging sessions below!  You can also find out 
 more about how to submit your team materials (Project presentation\, rob
 ot game etc).  If you have any questions\, please reach out to your tou
 rnament directors\, Michael Robinson.  If you have questions about subm
 itting materials\, please reach out to Kaitlin Ilnitzki.\nEVENT SCHEDULE
 \nWhile we want teams to participate as much as possible\, we know that 
 will not always be an option.  The only mandatory portion will be the t
 eam's Judging Session (listed below).  Teams will also be able to check
  out the Robot Game Leaderboard for score updates and participate in vir
 tual activities throughout the day!  The Opening and Closing Ceremony w
 ill be recorded so teams can watch at a later date.\n\n\n\n\nTime\nEvent
 \nLink\n\n\n8:00 AM\nCoaches Meeting\nSent to Lead Coach\n\n\n8:30 AM\nO
 pening Ceremony\nWatch Live!\n\n\n9:00 AM - 3:00 PM\nJudging Sessions\nS
 ent to Lead Coach\n\n\n11:00 AM - 4:00 PM\nVirtual Activities\nJoin Us!\
 n\n\n5:00 PM\nClosing Ceremony\nWatch Live!\n\n\n\nJUDGING SESSIONS\nCoa
 ches will receive the Zoom link to their judging session through email s
 o it can be distributed to the team before the event.  The judging sess
 ion will last 25 minutes (judges will watch the project presentation mee
 ting the teams in the judging Zoom room.  Teams will be able to enter t
 he judging room early to get set up and make sure everyone is connected.
   During the judging session\, teams will also have screen sharing capa
 bilities within the Zoom room.\nJudging Room 1\n\n\n\n\n\n9:00 AM\n\n690
 9 (Div 1)\nLightning Bolts\n\n\n10:00 AM\n37856 (Div 1)\n\nLlama Corns\n
 \n\n\n11:00 AM\n51233 (Div 1)\n\nDream Chasers\n\n\n\n\n12:30 PM\n\n4058
 6 (Div 1)\nG.I.R.L.S\n\n\n1:30 PM\n45595 (Div 1)\n\nBuilding Buddies\n\n
 \n\n\nJudging Room 2\n\n\n\n\n\n9:15 AM\n\n46647 (Div 1)\nCoding Masterm
 inds\n\n\n10:15 AM\n51132 (Div 1)\n\nProgamers\n\n\n\n\n11:15 AM\n\n4245
 2 (Div 2)\n#Girl Code\n\n\n12:45 PM\n42449 (Div 2)\n\nSuperior 7\n\n\n\n
 \n1:45 PM\n\n22395 (Div 2)\n\nRoboKnights\n\n\n\n\nJudging Room 3\n\n\n\
 n\n\n9:30 AM\n\n49481 (Div 1)\nFlash\n\n\n10:30 AM\n38288 (Div 1)\n\nLIC
 Ko\n\n\n\n\n12:00 PM\n\n45013 (Div 2)\nGHC.Sparks\n\n\n1:00 PM\n51004 (D
 iv 2)\n\nLegoVision\n\n\n\n\n2:00 PM\n\n41647 (Div 2)\n\nChamberlain Cha
 mpions\n\n\n\n\n&nbsp\;\n\n&nbsp\;\nRemote Tournament Guidelines\nSubmit
  your Practice Robot Game Round\nSubmit your Event Materials
URL;VALUE=URI:https://va-dcfll.org/events/dcfriendship-qualifier/
UID:urn:uuid:f8ee1dbd-114a-4944-b321-c6e80731196b
STATUS:CONFIRMED
ORGANIZER:
DTSTAMP:20260421T093615Z
DTSTART;VALUE=DATE:20210206
END:VEVENT
END:VCALENDAR