BEGIN:VCALENDAR
METHOD:PUBLISH
VERSION:2.0
CALSCALE:GREGORIAN
PRODID:-//NONSGML WPForms//NONSGML Sugar Calendar Feeds v3.10.0//EN
X-WR-CALNAME:Charlottesville FLL Challenge Qualifying Tournament
X-WR-CALDESC:VA-DC FIRST LEGO League
X-WR-TIMEZONE:UTC
BEGIN:VTIMEZONE
TZID:UTC
BEGIN:STANDARD
TZOFFSETFROM:+0000
TZOFFSETTO:+0000
DTSTART:20240517T120000
TZNAME:UTC
END:STANDARD
END:VTIMEZONE
BEGIN:VTIMEZONE
TZID:UTC
BEGIN:STANDARD
TZOFFSETFROM:+0000
TZOFFSETTO:+0000
DTSTART:20240517T120000
TZNAME:UTC
END:STANDARD
END:VTIMEZONE
BEGIN:VEVENT
SUMMARY:Charlottesville FLL Challenge Qualifying Tournament
DESCRIPTION:
URL;VALUE=URI:https://va-dcfll.org/events/charlottesville-fllc-2024/
UID:urn:uuid:0db6b23d-b462-4049-8eb7-2821e9e8b7ef
STATUS:CONFIRMED
ORGANIZER:
DTSTAMP:20260421T082120Z
DTSTART;VALUE=DATE:20241116
LOCATION:St. Anne's Belfield School\, 799 Faulconer Dr\, Charlottesville
 \, VA 22903
END:VEVENT
END:VCALENDAR