BEGIN:VCALENDAR
METHOD:PUBLISH
VERSION:2.0
CALSCALE:GREGORIAN
PRODID:-//NONSGML WPForms//NONSGML Sugar Calendar Feeds v3.10.0//EN
X-WR-CALNAME:Fairfax FLL Challenge Qualifying Tournament
X-WR-CALDESC:VA-DC FIRST LEGO League
X-WR-TIMEZONE:UTC
BEGIN:VTIMEZONE
TZID:UTC
BEGIN:STANDARD
TZOFFSETFROM:+0000
TZOFFSETTO:+0000
DTSTART:20240517T120000
TZNAME:UTC
END:STANDARD
END:VTIMEZONE
BEGIN:VTIMEZONE
TZID:UTC
BEGIN:STANDARD
TZOFFSETFROM:+0000
TZOFFSETTO:+0000
DTSTART:20240517T120000
TZNAME:UTC
END:STANDARD
END:VTIMEZONE
BEGIN:VEVENT
SUMMARY:Fairfax FLL Challenge Qualifying Tournament
DESCRIPTION:
URL;VALUE=URI:https://va-dcfll.org/events/chantilly-fllc-2024/
UID:urn:uuid:55f70d47-8e5c-4880-9193-fa5c57c8bd42
STATUS:CONFIRMED
ORGANIZER:
DTSTAMP:20260421T094612Z
DTSTART;VALUE=DATE:20241116
LOCATION:Chantilly High School\, 4201 Stringfellow Rd\, Chantilly\, VA 2
 0151
END:VEVENT
END:VCALENDAR