BEGIN:VCALENDAR
METHOD:PUBLISH
VERSION:2.0
CALSCALE:GREGORIAN
PRODID:-//NONSGML WPForms//NONSGML Sugar Calendar Feeds v3.10.0//EN
X-WR-CALNAME:Cargo Connect Season Kick Off
X-WR-CALDESC:VA-DC FIRST LEGO League
X-WR-TIMEZONE:UTC
BEGIN:VTIMEZONE
TZID:UTC
BEGIN:STANDARD
TZOFFSETFROM:+0000
TZOFFSETTO:+0000
DTSTART:20210216T010000
TZNAME:UTC
END:STANDARD
END:VTIMEZONE
BEGIN:VTIMEZONE
TZID:UTC
BEGIN:STANDARD
TZOFFSETFROM:+0000
TZOFFSETTO:+0000
DTSTART:20210216T010000
TZNAME:UTC
END:STANDARD
END:VTIMEZONE
BEGIN:VEVENT
SUMMARY:Cargo Connect Season Kick Off
DESCRIPTION:FIRST® LEGO® League\nSeason Launch – Aug 17th\nWatch at 
 12pm EST on Twitch\n\n\nCheck our website after August 17th for the sea
 son challenge details including the Innovation Project Details and Robot
  Game Missions. Check out the Season Teaser and Robot Game sneak peek im
 ages.\n\n\nREGISTER YOUR TEAM\n\n\n\n\n\n\n\n\n\n\n\n\n\n\n&nbsp\;
URL;VALUE=URI:https://va-dcfll.org/events/cargo-connect-season-kick-off/
UID:urn:uuid:54b26ae9-e0aa-43e1-a6f5-f640b2531554
STATUS:CONFIRMED
ORGANIZER:
DTSTAMP:20260421T094045Z
DTSTART;TZID=UTC:20210817T130000
DTEND;TZID=UTC:20210817T130000
END:VEVENT
END:VCALENDAR