BEGIN:VCALENDAR
METHOD:PUBLISH
VERSION:2.0
CALSCALE:GREGORIAN
PRODID:-//NONSGML WPForms//NONSGML Sugar Calendar Feeds v3.10.0//EN
X-WR-CALNAME:Blacksburg FIRST LEGO League Explore Festival
X-WR-CALDESC:VA-DC FIRST LEGO League
X-WR-TIMEZONE:UTC
BEGIN:VTIMEZONE
TZID:UTC
BEGIN:STANDARD
TZOFFSETFROM:+0000
TZOFFSETTO:+0000
DTSTART:20240922T020000
TZNAME:UTC
END:STANDARD
END:VTIMEZONE
BEGIN:VTIMEZONE
TZID:UTC
BEGIN:STANDARD
TZOFFSETFROM:+0000
TZOFFSETTO:+0000
DTSTART:20240922T020000
TZNAME:UTC
END:STANDARD
END:VTIMEZONE
BEGIN:VEVENT
SUMMARY:Blacksburg FIRST LEGO League Explore Festival
DESCRIPTION:FIRST LEGO League Explore teams will come together to celebr
 ate and showcase their season journey.  This event is apart of a larger
  FIRST Robotics event\, the Blacksburg FIRST Robotics Competition Qualif
 ier. This event is being hosted by New River Robotics Association. \n\n*
 Teams can learn more and register here .\n\n** If interested in voluntee
 ring\, you can apply here  (link will prompt you to log into your FIRST
  Inspires account or create one if you do not already have one).
URL;VALUE=URI:https://va-dcfll.org/events/blacksburg-flle/
UID:urn:uuid:95597a78-a0f0-4513-be2a-5a6469793e0f
STATUS:CONFIRMED
ORGANIZER:
DTSTAMP:20260420T112233Z
DTSTART;TZID=UTC:20250323T140000
DTEND;TZID=UTC:20250323T160000
LOCATION:Blacksburg High School\, 3401 Bruin Ln\, Blacksburg\, VA 24060
END:VEVENT
END:VCALENDAR