BEGIN:VCALENDAR
METHOD:PUBLISH
VERSION:2.0
CALSCALE:GREGORIAN
PRODID:-//NONSGML WPForms//NONSGML Sugar Calendar Feeds v3.10.0//EN
X-WR-CALNAME:Blacksburg FLL Challenge Qualifying Tournament
X-WR-CALDESC:VA-DC FIRST LEGO League
X-WR-TIMEZONE:UTC
BEGIN:VTIMEZONE
TZID:UTC
BEGIN:STANDARD
TZOFFSETFROM:+0000
TZOFFSETTO:+0000
DTSTART:20240517T120000
TZNAME:UTC
END:STANDARD
END:VTIMEZONE
BEGIN:VTIMEZONE
TZID:UTC
BEGIN:STANDARD
TZOFFSETFROM:+0000
TZOFFSETTO:+0000
DTSTART:20240517T120000
TZNAME:UTC
END:STANDARD
END:VTIMEZONE
BEGIN:VEVENT
SUMMARY:Blacksburg FLL Challenge Qualifying Tournament
DESCRIPTION:
URL;VALUE=URI:https://va-dcfll.org/events/blacksburg-fllc-2024/
UID:urn:uuid:c668edb2-679f-4b44-87b3-1bc2668ba3b7
STATUS:CONFIRMED
ORGANIZER:
DTSTAMP:20260421T091808Z
DTSTART;VALUE=DATE:20241116
LOCATION:Blacksburg High School\, 3401 Bruin Ln\, Blacksburg\, VA 24060
END:VEVENT
END:VCALENDAR