BEGIN:VCALENDAR
METHOD:PUBLISH
VERSION:2.0
CALSCALE:GREGORIAN
PRODID:-//NONSGML WPForms//NONSGML Sugar Calendar Feeds v3.10.0//EN
X-WR-CALNAME:Ashburn FLL Explore Festival
X-WR-CALDESC:VA-DC FIRST LEGO League
X-WR-TIMEZONE:UTC
BEGIN:VTIMEZONE
TZID:UTC
BEGIN:STANDARD
TZOFFSETFROM:+0000
TZOFFSETTO:+0000
DTSTART:20211001T220000
TZNAME:UTC
END:STANDARD
END:VTIMEZONE
BEGIN:VTIMEZONE
TZID:UTC
BEGIN:STANDARD
TZOFFSETFROM:+0000
TZOFFSETTO:+0000
DTSTART:20211001T220000
TZNAME:UTC
END:STANDARD
END:VTIMEZONE
BEGIN:VEVENT
SUMMARY:Ashburn FLL Explore Festival
DESCRIPTION:Registration for this event will open on Friday\, February 1
 8th at 10AM.\nFind out more about our FLL Explore Festivals and how to r
 egister you team:  https://va-dcfll.org/fll-explore/team-resources/even
 t-registration
URL;VALUE=URI:https://va-dcfll.org/events/ashburn-fll-explore-festival/
UID:urn:uuid:a4a594a6-3b5e-4a21-9256-ba790098ad5a
STATUS:CONFIRMED
ORGANIZER:
DTSTAMP:20260421T082157Z
DTSTART;TZID=UTC:20220402T100000
DTEND;TZID=UTC:20220402T120000
LOCATION:Bricks 4 Kidz\nThe Pavilion at Ashburn Station\n43635 Greenway 
 Corporate Drive\nAshburn\, VA 20147
END:VEVENT
END:VCALENDAR