BEGIN:VCALENDAR
METHOD:PUBLISH
VERSION:2.0
CALSCALE:GREGORIAN
PRODID:-//NONSGML WPForms//NONSGML Sugar Calendar Feeds v3.10.0//EN
X-WR-CALNAME:Alexandria FLL Challenge Qualifying Tournament
X-WR-CALDESC:VA-DC FIRST LEGO League
X-WR-TIMEZONE:UTC
BEGIN:VTIMEZONE
TZID:UTC
BEGIN:STANDARD
TZOFFSETFROM:+0000
TZOFFSETTO:+0000
DTSTART:20240525T120000
TZNAME:UTC
END:STANDARD
END:VTIMEZONE
BEGIN:VTIMEZONE
TZID:UTC
BEGIN:STANDARD
TZOFFSETFROM:+0000
TZOFFSETTO:+0000
DTSTART:20240525T120000
TZNAME:UTC
END:STANDARD
END:VTIMEZONE
BEGIN:VEVENT
SUMMARY:Alexandria FLL Challenge Qualifying Tournament
DESCRIPTION:
URL;VALUE=URI:https://va-dcfll.org/events/alexandria-fllc-2024/
UID:urn:uuid:41686af5-f581-42b3-bfe7-6cf72fd8b546
STATUS:CONFIRMED
ORGANIZER:
DTSTAMP:20260420T112232Z
DTSTART;VALUE=DATE:20241124
LOCATION:Hayfield Secondary School\, 7630 Telegraph Rd\, Alexandria\, VA
  22315
END:VEVENT
END:VCALENDAR