BEGIN:VCALENDAR
METHOD:PUBLISH
VERSION:2.0
CALSCALE:GREGORIAN
PRODID:-//NONSGML WPForms//NONSGML Sugar Calendar Feeds v3.10.0//EN
X-WR-CALNAME:VA/MD/DC FIRST Volunteer Town Hall
X-WR-CALDESC:VA-DC FIRST LEGO League
X-WR-TIMEZONE:UTC
BEGIN:VTIMEZONE
TZID:UTC
BEGIN:STANDARD
TZOFFSETFROM:+0000
TZOFFSETTO:+0000
DTSTART:20200326T063000
TZNAME:UTC
END:STANDARD
END:VTIMEZONE
BEGIN:VTIMEZONE
TZID:UTC
BEGIN:STANDARD
TZOFFSETFROM:+0000
TZOFFSETTO:+0000
DTSTART:20200326T063000
TZNAME:UTC
END:STANDARD
END:VTIMEZONE
BEGIN:VEVENT
SUMMARY:VA/MD/DC FIRST Volunteer Town Hall
DESCRIPTION:Virginia/ Maryland/ DC\nFIRST Volunteer Town Hall\nWe apprec
 iate all the volunteers that make the magic happen at FIRST  events in 
 Maryland\, Virginia\, and Washington\, D.C.  With all of the uncertaint
 y surrounding the 2020-2021 season\, we wanted to come together as a com
 munity to share what we know and answer your questions.  Join us as rep
 resentatives from each FIRST program in VA/MD/DC share updates and answe
 r questions submitted before the event.\nWe want to hear from you!  Wha
 t questions or concerns do you have?\nSUBMIT YOUR QUESTIONS HERE before 
 the Town Hall.\nYou can also request a reminder email here.\nVIEW the To
 wn Hall on YouTube  -  September 24th at 6:30pm!\n&nbsp\;
URL;VALUE=URI:https://va-dcfll.org/events/5121/
UID:urn:uuid:96b1529e-3a4e-46c4-86bf-5548e55aa287
STATUS:CONFIRMED
ORGANIZER:
DTSTAMP:20260421T081656Z
DTSTART;TZID=UTC:20200924T183000
DTEND;TZID=UTC:20200924T193000
END:VEVENT
END:VCALENDAR