BEGIN:VCALENDAR
METHOD:PUBLISH
VERSION:2.0
CALSCALE:GREGORIAN
PRODID:-//NONSGML WPForms//NONSGML Sugar Calendar Feeds v3.10.0//EN
X-WR-CALNAME:FLL Challenge Webinar: Judging Sessions
X-WR-CALDESC:VA-DC FIRST LEGO League
X-WR-TIMEZONE:UTC
BEGIN:VTIMEZONE
TZID:UTC
BEGIN:STANDARD
TZOFFSETFROM:+0000
TZOFFSETTO:+0000
DTSTART:20200512T070000
TZNAME:UTC
END:STANDARD
END:VTIMEZONE
BEGIN:VTIMEZONE
TZID:UTC
BEGIN:STANDARD
TZOFFSETFROM:+0000
TZOFFSETTO:+0000
DTSTART:20200512T070000
TZNAME:UTC
END:STANDARD
END:VTIMEZONE
BEGIN:VEVENT
SUMMARY:FLL Challenge Webinar: Judging Sessions
DESCRIPTION:2020-2021 VA+DC FIRST LEGO League Webinar Series:\nTOURNAMEN
 T JUDGING SESSIONS\n\n\n\n\n\n\nVa-DC FIRST LEGO League's very own head 
 judge\, Scott Rakestraw\, will join us in answering your questions about
  judging sessions and regulations as we navigate remote and consolidated
  judging.\n\n\n\n\n\n\n\n\n\nREGISTER HERE
URL;VALUE=URI:https://va-dcfll.org/events/4455/
UID:urn:uuid:072ff8c6-366c-419b-9426-9995053a8eac
STATUS:CONFIRMED
ORGANIZER:
DTSTAMP:20260421T081616Z
DTSTART;TZID=UTC:20201110T190000
DTEND;TZID=UTC:20201110T190000
END:VEVENT
END:VCALENDAR